Package: rawDiag Version: 1.2.0 Command: rm -rf rawDiag.buildbin-libdir && mkdir rawDiag.buildbin-libdir && /Users/biocbuild/BBS/utils/build-universal.sh rawDiag_1.2.0.tar.gz /Library/Frameworks/R.framework/Resources/bin/R rawDiag.buildbin-libdir StartedAt: 2025-03-28 13:31:02 -0400 (Fri, 28 Mar 2025) EndedAt: 2025-03-28 13:31:25 -0400 (Fri, 28 Mar 2025) EllapsedTime: 22.8 seconds RetCode: 0 Status: OK PackageFile: rawDiag_1.2.0.tgz PackageFileSize: 2.101 MiB