Package: randRotation Version: 1.18.0 Command: /home/biocbuild/R/R/bin/R CMD INSTALL randRotation StartedAt: 2025-03-31 20:15:49 -0000 (Mon, 31 Mar 2025) EndedAt: 2025-03-31 20:15:55 -0000 (Mon, 31 Mar 2025) EllapsedTime: 6.6 seconds RetCode: 0 Status: OK