Package: randRotation Version: 1.18.0 Command: /home/biocbuild/R/R/bin/R CMD check --install=check:randRotation.install-out.txt --library=/home/biocbuild/R/R/site-library --no-vignettes --timings randRotation_1.18.0.tar.gz StartedAt: 2025-04-01 09:47:15 -0000 (Tue, 01 Apr 2025) EndedAt: 2025-04-01 09:48:02 -0000 (Tue, 01 Apr 2025) EllapsedTime: 47.1 seconds RetCode: 1 Status: ERROR CheckDir: randRotation.Rcheck Warnings: NA