Package: randRotation Version: 1.18.0 Command: /home/biocbuild/R/R/bin/R CMD build --keep-empty-dirs --no-resave-data randRotation StartedAt: 2025-04-01 01:51:54 -0000 (Tue, 01 Apr 2025) EndedAt: 2025-04-01 01:54:22 -0000 (Tue, 01 Apr 2025) EllapsedTime: 148.1 seconds RetCode: 0 Status: OK PackageFile: randRotation_1.18.0.tar.gz PackageFileSize: 962 KiB