Package: randRotation Version: 1.18.0 Command: F:\biocbuild\bbs-3.20-bioc\R\bin\R.exe CMD INSTALL randRotation StartedAt: 2025-03-31 15:28:39 -0400 (Mon, 31 Mar 2025) EndedAt: 2025-03-31 15:29:13 -0400 (Mon, 31 Mar 2025) EllapsedTime: 33.6 seconds RetCode: 0 Status: OK