Package: randRotation Version: 1.18.0 Command: chmod a+r randRotation -R && F:\biocbuild\bbs-3.20-bioc\R\bin\R.exe CMD build --keep-empty-dirs --no-resave-data randRotation StartedAt: 2025-03-31 21:17:01 -0400 (Mon, 31 Mar 2025) EndedAt: 2025-03-31 21:19:55 -0400 (Mon, 31 Mar 2025) EllapsedTime: 173.1 seconds RetCode: 0 Status: OK PackageFile: randRotation_1.18.0.tar.gz PackageFileSize: 980.2 KiB