Package: randRotation Version: 1.18.0 Command: rm -rf randRotation.buildbin-libdir && mkdir randRotation.buildbin-libdir && F:\biocbuild\bbs-3.20-bioc\R\bin\R.exe CMD INSTALL --build --library=randRotation.buildbin-libdir randRotation_1.18.0.tar.gz StartedAt: 2025-04-01 08:57:57 -0400 (Tue, 01 Apr 2025) EndedAt: 2025-04-01 08:58:34 -0400 (Tue, 01 Apr 2025) EllapsedTime: 37.6 seconds RetCode: 0 Status: OK PackageFile: randRotation_1.18.0.zip PackageFileSize: 1.128 MiB