Package: randRotation Version: 1.18.0 Command: /Library/Frameworks/R.framework/Resources/bin/R CMD build --keep-empty-dirs --no-resave-data randRotation StartedAt: 2025-04-01 05:48:13 -0400 (Tue, 01 Apr 2025) EndedAt: 2025-04-01 05:50:31 -0400 (Tue, 01 Apr 2025) EllapsedTime: 137.6 seconds RetCode: 0 Status: OK PackageFile: randRotation_1.18.0.tar.gz PackageFileSize: 972.9 KiB