Package: randPack Version: 1.52.0 Command: /Library/Frameworks/R.framework/Resources/bin/R CMD build --keep-empty-dirs --no-resave-data randPack StartedAt: 2025-04-01 05:48:03 -0400 (Tue, 01 Apr 2025) EndedAt: 2025-04-01 05:48:15 -0400 (Tue, 01 Apr 2025) EllapsedTime: 12.4 seconds RetCode: 0 Status: OK PackageFile: randPack_1.52.0.tar.gz PackageFileSize: 253.1 KiB