Package: ramwas Version: 1.30.0 Command: F:\biocbuild\bbs-3.20-bioc\R\bin\R.exe CMD INSTALL ramwas StartedAt: 2025-03-31 16:31:44 -0400 (Mon, 31 Mar 2025) EndedAt: 2025-03-31 16:32:45 -0400 (Mon, 31 Mar 2025) EllapsedTime: 60.8 seconds RetCode: 0 Status: OK