Package: ramwas Version: 1.30.0 Command: /Library/Frameworks/R.framework/Resources/bin/R CMD check --install=check:ramwas.install-out.txt --library=/Library/Frameworks/R.framework/Resources/library --no-vignettes --timings ramwas_1.30.0.tar.gz StartedAt: 2025-04-02 05:23:24 -0400 (Wed, 02 Apr 2025) EndedAt: 2025-04-02 05:27:48 -0400 (Wed, 02 Apr 2025) EllapsedTime: 264.2 seconds RetCode: 0 Status: OK CheckDir: ramwas.Rcheck Warnings: 0