Package: ramr Version: 1.14.0 Command: chmod a+r ramr -R && F:\biocbuild\bbs-3.20-bioc\R\bin\R.exe CMD build --keep-empty-dirs --no-resave-data ramr StartedAt: 2025-03-31 21:16:34 -0400 (Mon, 31 Mar 2025) EndedAt: 2025-03-31 21:21:34 -0400 (Mon, 31 Mar 2025) EllapsedTime: 300.3 seconds RetCode: 0 Status: OK PackageFile: ramr_1.14.0.tar.gz PackageFileSize: 2.167 MiB