Package: ramr Version: 1.14.0 Command: /home/biocbuild/bbs-3.20-bioc/R/bin/R CMD check --install=check:ramr.install-out.txt --library=/home/biocbuild/bbs-3.20-bioc/R/site-library --timings ramr_1.14.0.tar.gz StartedAt: 2025-04-01 01:18:51 -0400 (Tue, 01 Apr 2025) EndedAt: 2025-04-01 01:22:17 -0400 (Tue, 01 Apr 2025) EllapsedTime: 206.4 seconds RetCode: 0 Status: OK CheckDir: ramr.Rcheck Warnings: 0