Package: ramr Version: 1.14.0 Command: rm -rf ramr.buildbin-libdir && mkdir ramr.buildbin-libdir && /Users/biocbuild/BBS/utils/build-universal.sh ramr_1.14.0.tar.gz /Library/Frameworks/R.framework/Resources/bin/R ramr.buildbin-libdir StartedAt: 2025-04-02 15:47:42 -0400 (Wed, 02 Apr 2025) EndedAt: 2025-04-02 15:47:59 -0400 (Wed, 02 Apr 2025) EllapsedTime: 16.1 seconds RetCode: 0 Status: OK PackageFile: ramr_1.14.0.tgz PackageFileSize: 2.701 MiB