Package: rain Version: 1.40.0 Command: /home/biocbuild/R/R/bin/R CMD INSTALL rain StartedAt: 2025-03-31 20:57:20 -0000 (Mon, 31 Mar 2025) EndedAt: 2025-03-31 20:57:29 -0000 (Mon, 31 Mar 2025) EllapsedTime: 9.0 seconds RetCode: 0 Status: OK