Package: rain Version: 1.40.0 Command: F:\biocbuild\bbs-3.20-bioc\R\bin\R.exe CMD INSTALL rain StartedAt: 2025-03-31 16:43:50 -0400 (Mon, 31 Mar 2025) EndedAt: 2025-03-31 16:44:01 -0400 (Mon, 31 Mar 2025) EllapsedTime: 10.1 seconds RetCode: 0 Status: OK