Package: rain Version: 1.40.0 Command: /Library/Frameworks/R.framework/Resources/bin/R CMD build --keep-empty-dirs --no-resave-data rain StartedAt: 2025-03-31 21:14:40 -0400 (Mon, 31 Mar 2025) EndedAt: 2025-03-31 21:15:48 -0400 (Mon, 31 Mar 2025) EllapsedTime: 68.3 seconds RetCode: 0 Status: OK PackageFile: rain_1.40.0.tar.gz PackageFileSize: 604.2 KiB