Package: rain Version: 1.40.0 Command: /Library/Frameworks/R.framework/Resources/bin/R CMD build --keep-empty-dirs --no-resave-data rain StartedAt: 2025-04-01 05:46:04 -0400 (Tue, 01 Apr 2025) EndedAt: 2025-04-01 05:46:37 -0400 (Tue, 01 Apr 2025) EllapsedTime: 33.2 seconds RetCode: 0 Status: OK PackageFile: rain_1.40.0.tar.gz PackageFileSize: 603.9 KiB