Package: rain Version: 1.40.0 Command: rm -rf rain.buildbin-libdir && mkdir rain.buildbin-libdir && /Users/biocbuild/BBS/utils/build-universal.sh rain_1.40.0.tar.gz /Library/Frameworks/R.framework/Resources/bin/R rain.buildbin-libdir StartedAt: 2025-04-02 15:47:34 -0400 (Wed, 02 Apr 2025) EndedAt: 2025-04-02 15:47:45 -0400 (Wed, 02 Apr 2025) EllapsedTime: 10.3 seconds RetCode: 0 Status: OK PackageFile: rain_1.40.0.tgz PackageFileSize: 632 KiB