Package: rTRMui Version: 1.44.0 Command: /Library/Frameworks/R.framework/Resources/bin/R CMD INSTALL rTRMui StartedAt: 2025-03-31 16:37:44 -0400 (Mon, 31 Mar 2025) EndedAt: 2025-03-31 16:38:38 -0400 (Mon, 31 Mar 2025) EllapsedTime: 54.0 seconds RetCode: 0 Status: OK