Package: rTRM Version: 1.44.0 Command: /home/biocbuild/R/R/bin/R CMD check --install=check:rTRM.install-out.txt --library=/home/biocbuild/R/R/site-library --no-vignettes --timings rTRM_1.44.0.tar.gz StartedAt: 2025-04-01 10:14:55 -0000 (Tue, 01 Apr 2025) EndedAt: 2025-04-01 10:17:01 -0000 (Tue, 01 Apr 2025) EllapsedTime: 126.4 seconds RetCode: 0 Status: OK CheckDir: rTRM.Rcheck Warnings: 0