Package: rTRM Version: 1.44.0 Command: rm -rf rTRM.buildbin-libdir && mkdir rTRM.buildbin-libdir && F:\biocbuild\bbs-3.20-bioc\R\bin\R.exe CMD INSTALL --build --library=rTRM.buildbin-libdir rTRM_1.44.0.tar.gz StartedAt: 2025-04-01 09:06:45 -0400 (Tue, 01 Apr 2025) EndedAt: 2025-04-01 09:07:16 -0400 (Tue, 01 Apr 2025) EllapsedTime: 31.4 seconds RetCode: 0 Status: OK PackageFile: rTRM_1.44.0.zip PackageFileSize: 3.123 MiB