Package: rTRM Version: 1.44.0 Command: /Library/Frameworks/R.framework/Resources/bin/R CMD check --install=check:rTRM.install-out.txt --library=/Library/Frameworks/R.framework/Resources/library --no-vignettes --timings rTRM_1.44.0.tar.gz StartedAt: 2025-04-02 07:07:05 -0400 (Wed, 02 Apr 2025) EndedAt: 2025-04-02 07:09:03 -0400 (Wed, 02 Apr 2025) EllapsedTime: 118.2 seconds RetCode: 0 Status: OK CheckDir: rTRM.Rcheck Warnings: 0