Package: rTRM Version: 1.44.0 Command: /Library/Frameworks/R.framework/Resources/bin/R CMD build --keep-empty-dirs --no-resave-data rTRM StartedAt: 2025-04-01 06:40:36 -0400 (Tue, 01 Apr 2025) EndedAt: 2025-04-01 06:41:34 -0400 (Tue, 01 Apr 2025) EllapsedTime: 57.8 seconds RetCode: 0 Status: OK PackageFile: rTRM_1.44.0.tar.gz PackageFileSize: 3.55 MiB