Package: rScudo Version: 1.22.0 Command: /home/biocbuild/R/R/bin/R CMD INSTALL rScudo StartedAt: 2025-03-31 20:21:25 -0000 (Mon, 31 Mar 2025) EndedAt: 2025-03-31 20:21:29 -0000 (Mon, 31 Mar 2025) EllapsedTime: 3.7 seconds RetCode: 0 Status: OK