Package: rScudo Version: 1.22.0 Command: /home/biocbuild/bbs-3.20-bioc/R/bin/R CMD check --install=check:rScudo.install-out.txt --library=/home/biocbuild/bbs-3.20-bioc/R/site-library --timings rScudo_1.22.0.tar.gz StartedAt: 2025-04-01 01:44:18 -0400 (Tue, 01 Apr 2025) EndedAt: 2025-04-01 01:46:25 -0400 (Tue, 01 Apr 2025) EllapsedTime: 127.2 seconds RetCode: 0 Status: OK CheckDir: rScudo.Rcheck Warnings: 0