Package: rRDP Version: 1.40.0 Command: rm -rf rRDP.buildbin-libdir && mkdir rRDP.buildbin-libdir && /Users/biocbuild/BBS/utils/build-universal.sh rRDP_1.40.0.tar.gz /Library/Frameworks/R.framework/Resources/bin/R rRDP.buildbin-libdir StartedAt: 2025-04-01 12:38:55 -0400 (Tue, 01 Apr 2025) EndedAt: 2025-04-01 12:39:21 -0400 (Tue, 01 Apr 2025) EllapsedTime: 26.0 seconds RetCode: 0 Status: OK PackageFile: rRDP_1.40.0.tgz PackageFileSize: 2.63 MiB