Package: rGenomeTracks Version: 1.12.0 Command: /Library/Frameworks/R.framework/Resources/bin/R CMD INSTALL rGenomeTracks StartedAt: 2025-03-31 15:43:28 -0400 (Mon, 31 Mar 2025) EndedAt: 2025-03-31 15:43:42 -0400 (Mon, 31 Mar 2025) EllapsedTime: 14.2 seconds RetCode: 0 Status: OK