Package: rGenomeTracks Version: 1.12.0 Command: /Library/Frameworks/R.framework/Resources/bin/R CMD check --install=check:rGenomeTracks.install-out.txt --library=/Library/Frameworks/R.framework/Resources/library --no-vignettes --timings rGenomeTracks_1.12.0.tar.gz StartedAt: 2025-04-01 07:59:35 -0400 (Tue, 01 Apr 2025) EndedAt: 2025-04-01 08:01:16 -0400 (Tue, 01 Apr 2025) EllapsedTime: 100.9 seconds RetCode: 0 Status: OK CheckDir: rGenomeTracks.Rcheck Warnings: 0