Package: rGenomeTracks Version: 1.12.0 Command: /Library/Frameworks/R.framework/Resources/bin/R CMD build --keep-empty-dirs --no-resave-data rGenomeTracks StartedAt: 2025-04-01 06:08:14 -0400 (Tue, 01 Apr 2025) EndedAt: 2025-04-01 06:08:29 -0400 (Tue, 01 Apr 2025) EllapsedTime: 15.6 seconds RetCode: 0 Status: OK PackageFile: rGenomeTracks_1.12.0.tar.gz PackageFileSize: 3.345 MiB