Package: rGREAT Version: 2.8.0 Command: /home/biocbuild/bbs-3.20-bioc/R/bin/R CMD INSTALL rGREAT StartedAt: 2025-03-31 15:35:35 -0400 (Mon, 31 Mar 2025) EndedAt: 2025-03-31 15:36:18 -0400 (Mon, 31 Mar 2025) EllapsedTime: 43.7 seconds RetCode: 0 Status: OK