Package: rGREAT Version: 2.8.0 Command: /Library/Frameworks/R.framework/Resources/bin/R CMD build --keep-empty-dirs --no-resave-data rGREAT StartedAt: 2025-04-01 06:09:18 -0400 (Tue, 01 Apr 2025) EndedAt: 2025-04-01 06:10:23 -0400 (Tue, 01 Apr 2025) EllapsedTime: 64.8 seconds RetCode: 0 Status: OK PackageFile: rGREAT_2.8.0.tar.gz PackageFileSize: 2.754 MiB