Package: rDGIdb Version: 1.32.0 Command: /home/biocbuild/R/R/bin/R CMD INSTALL rDGIdb StartedAt: 2025-03-31 20:17:48 -0000 (Mon, 31 Mar 2025) EndedAt: 2025-03-31 20:18:25 -0000 (Mon, 31 Mar 2025) EllapsedTime: 37.0 seconds RetCode: 0 Status: OK