Package: rDGIdb Version: 1.32.0 Command: chmod a+r rDGIdb -R && F:\biocbuild\bbs-3.20-bioc\R\bin\R.exe CMD build --keep-empty-dirs --no-resave-data rDGIdb StartedAt: 2025-03-31 21:21:36 -0400 (Mon, 31 Mar 2025) EndedAt: 2025-03-31 21:22:21 -0400 (Mon, 31 Mar 2025) EllapsedTime: 45.4 seconds RetCode: 1 Status: ERROR PackageFile: None PackageFileSize: NA