Package: rDGIdb Version: 1.32.0 Command: /Library/Frameworks/R.framework/Resources/bin/R CMD build --keep-empty-dirs --no-resave-data rDGIdb StartedAt: 2025-03-31 21:19:22 -0400 (Mon, 31 Mar 2025) EndedAt: 2025-03-31 21:19:50 -0400 (Mon, 31 Mar 2025) EllapsedTime: 28.0 seconds RetCode: 1 Status: ERROR PackageFile: None PackageFileSize: NA