Package: rDGIdb Version: 1.32.0 Command: /Library/Frameworks/R.framework/Resources/bin/R CMD build --keep-empty-dirs --no-resave-data rDGIdb StartedAt: 2025-04-01 05:58:07 -0400 (Tue, 01 Apr 2025) EndedAt: 2025-04-01 05:58:32 -0400 (Tue, 01 Apr 2025) EllapsedTime: 24.8 seconds RetCode: 1 Status: ERROR PackageFile: None PackageFileSize: NA