Package: rCGH Version: 1.36.0 Command: /Library/Frameworks/R.framework/Resources/bin/R CMD check --install=check:rCGH.install-out.txt --library=/Library/Frameworks/R.framework/Resources/library --no-vignettes --timings rCGH_1.36.0.tar.gz StartedAt: 2025-04-02 05:29:50 -0400 (Wed, 02 Apr 2025) EndedAt: 2025-04-02 05:37:08 -0400 (Wed, 02 Apr 2025) EllapsedTime: 438.3 seconds RetCode: 0 Status: OK CheckDir: rCGH.Rcheck Warnings: 0