Package: rBLAST Version: 1.2.0 Command: /home/biocbuild/R/R/bin/R CMD check --install=check:rBLAST.install-out.txt --library=/home/biocbuild/R/R/site-library --no-vignettes --timings rBLAST_1.2.0.tar.gz StartedAt: 2025-04-01 09:48:05 -0000 (Tue, 01 Apr 2025) EndedAt: 2025-04-01 09:49:29 -0000 (Tue, 01 Apr 2025) EllapsedTime: 84.2 seconds RetCode: 0 Status: OK CheckDir: rBLAST.Rcheck Warnings: 0