Package: rBLAST Version: 1.2.0 Command: /home/biocbuild/bbs-3.20-bioc/R/bin/R CMD build --keep-empty-dirs --no-resave-data --md5 rBLAST StartedAt: 2025-03-31 18:42:10 -0400 (Mon, 31 Mar 2025) EndedAt: 2025-03-31 18:42:23 -0400 (Mon, 31 Mar 2025) EllapsedTime: 13.0 seconds RetCode: 0 Status: OK PackageFile: rBLAST_1.2.0.tar.gz PackageFileSize: 25.5 KiB