Package: rBLAST Version: 1.2.0 Command: /Library/Frameworks/R.framework/Resources/bin/R CMD INSTALL rBLAST StartedAt: 2025-03-31 15:43:16 -0400 (Mon, 31 Mar 2025) EndedAt: 2025-03-31 15:43:26 -0400 (Mon, 31 Mar 2025) EllapsedTime: 10.5 seconds RetCode: 0 Status: OK