Package: r3Cseq Version: 1.52.0 Command: rm -rf r3Cseq.buildbin-libdir && mkdir r3Cseq.buildbin-libdir && /Users/biocbuild/BBS/utils/build-universal.sh r3Cseq_1.52.0.tar.gz /Library/Frameworks/R.framework/Resources/bin/R r3Cseq.buildbin-libdir StartedAt: 2025-04-01 12:31:20 -0400 (Tue, 01 Apr 2025) EndedAt: 2025-04-01 12:32:55 -0400 (Tue, 01 Apr 2025) EllapsedTime: 94.9 seconds RetCode: 0 Status: OK PackageFile: r3Cseq_1.52.0.tgz PackageFileSize: 2.944 MiB