Package: qusage Version: 2.40.0 Command: /home/biocbuild/bbs-3.20-bioc/R/bin/R CMD check --install=check:qusage.install-out.txt --library=/home/biocbuild/bbs-3.20-bioc/R/site-library --timings qusage_2.40.0.tar.gz StartedAt: 2025-04-01 01:16:56 -0400 (Tue, 01 Apr 2025) EndedAt: 2025-04-01 01:23:00 -0400 (Tue, 01 Apr 2025) EllapsedTime: 364.6 seconds RetCode: 0 Status: OK CheckDir: qusage.Rcheck Warnings: 0