Package: qusage Version: 2.40.0 Command: /Library/Frameworks/R.framework/Resources/bin/R CMD check --install=check:qusage.install-out.txt --library=/Library/Frameworks/R.framework/Resources/library --no-vignettes --timings qusage_2.40.0.tar.gz StartedAt: 2025-04-01 07:37:30 -0400 (Tue, 01 Apr 2025) EndedAt: 2025-04-01 07:40:31 -0400 (Tue, 01 Apr 2025) EllapsedTime: 181.1 seconds RetCode: 0 Status: OK CheckDir: qusage.Rcheck Warnings: 0