Package: qusage Version: 2.40.0 Command: /Library/Frameworks/R.framework/Resources/bin/R CMD build --keep-empty-dirs --no-resave-data qusage StartedAt: 2025-03-31 21:13:38 -0400 (Mon, 31 Mar 2025) EndedAt: 2025-03-31 21:24:55 -0400 (Mon, 31 Mar 2025) EllapsedTime: 676.9 seconds RetCode: 0 Status: OK PackageFile: qusage_2.40.0.tar.gz PackageFileSize: 9.67 MiB