Package: qusage Version: 2.40.0 Command: /Library/Frameworks/R.framework/Resources/bin/R CMD INSTALL qusage StartedAt: 2025-03-31 15:19:06 -0400 (Mon, 31 Mar 2025) EndedAt: 2025-03-31 15:19:17 -0400 (Mon, 31 Mar 2025) EllapsedTime: 11.3 seconds RetCode: 0 Status: OK