Package: qusage Version: 2.40.0 Command: /Library/Frameworks/R.framework/Resources/bin/R CMD build --keep-empty-dirs --no-resave-data qusage StartedAt: 2025-04-01 05:38:55 -0400 (Tue, 01 Apr 2025) EndedAt: 2025-04-01 05:46:35 -0400 (Tue, 01 Apr 2025) EllapsedTime: 460.0 seconds RetCode: 0 Status: OK PackageFile: qusage_2.40.0.tar.gz PackageFileSize: 9.67 MiB