Package: quantsmooth Version: 1.72.0 Command: /Library/Frameworks/R.framework/Resources/bin/R CMD check --install=check:quantsmooth.install-out.txt --library=/Library/Frameworks/R.framework/Resources/library --no-vignettes --timings quantsmooth_1.72.0.tar.gz StartedAt: 2025-04-01 07:36:05 -0400 (Tue, 01 Apr 2025) EndedAt: 2025-04-01 07:37:43 -0400 (Tue, 01 Apr 2025) EllapsedTime: 98.2 seconds RetCode: 0 Status: OK CheckDir: quantsmooth.Rcheck Warnings: 0