Package: quantro Version: 1.40.0 Command: /home/biocbuild/R/R/bin/R CMD INSTALL quantro StartedAt: 2025-03-31 21:05:22 -0000 (Mon, 31 Mar 2025) EndedAt: 2025-03-31 21:06:20 -0000 (Mon, 31 Mar 2025) EllapsedTime: 58.1 seconds RetCode: 0 Status: OK