Package: quantro Version: 1.40.0 Command: /Library/Frameworks/R.framework/Resources/bin/R CMD build --keep-empty-dirs --no-resave-data quantro StartedAt: 2025-03-31 21:13:02 -0400 (Mon, 31 Mar 2025) EndedAt: 2025-03-31 21:16:28 -0400 (Mon, 31 Mar 2025) EllapsedTime: 206.2 seconds RetCode: 0 Status: OK PackageFile: quantro_1.40.0.tar.gz PackageFileSize: 2.777 MiB