Package: qsvaR Version: 1.10.0 Command: F:\biocbuild\bbs-3.20-bioc\R\bin\R.exe CMD INSTALL qsvaR StartedAt: 2025-03-31 16:42:33 -0400 (Mon, 31 Mar 2025) EndedAt: 2025-03-31 16:43:09 -0400 (Mon, 31 Mar 2025) EllapsedTime: 36.2 seconds RetCode: 0 Status: OK